BEGIN:VCALENDAR
VERSION:2.0
PRODID:-//Kolpingsfamilie Unterboihingen - ECPv6.15.20//NONSGML v1.0//EN
CALSCALE:GREGORIAN
METHOD:PUBLISH
X-WR-CALNAME:Kolpingsfamilie Unterboihingen
X-ORIGINAL-URL:https://kf-unterboihingen.de
X-WR-CALDESC:Veranstaltungen für Kolpingsfamilie Unterboihingen
REFRESH-INTERVAL;VALUE=DURATION:PT1H
X-Robots-Tag:noindex
X-PUBLISHED-TTL:PT1H
BEGIN:VTIMEZONE
TZID:UTC
BEGIN:STANDARD
TZOFFSETFROM:+0000
TZOFFSETTO:+0000
TZNAME:UTC
DTSTART:20250101T000000
END:STANDARD
END:VTIMEZONE
BEGIN:VEVENT
DTSTART;TZID=UTC:20260508T190000
DTEND;TZID=UTC:20260508T230000
DTSTAMP:20260422T112354
CREATED:20260215T155608Z
LAST-MODIFIED:20260215T155608Z
UID:1812-1778266800-1778281200@kf-unterboihingen.de
SUMMARY:Kommunalpolitischer Abend
DESCRIPTION:Kommunalpolitischer Abend mit unserem Gemeinderat Bernd Dieterle
URL:https://kf-unterboihingen.de/event/kommunalpolitischer-abend/
LOCATION:Kolpingsstube\, Bismarckstr. 45\, Wendlingen am Neckar\, 73240\, Deutschland
END:VEVENT
END:VCALENDAR