BEGIN:VCALENDAR
VERSION:2.0
PRODID:-//Kolpingsfamilie Unterboihingen - ECPv6.15.20//NONSGML v1.0//EN
CALSCALE:GREGORIAN
METHOD:PUBLISH
X-ORIGINAL-URL:https://kf-unterboihingen.de
X-WR-CALDESC:Veranstaltungen für Kolpingsfamilie Unterboihingen
REFRESH-INTERVAL;VALUE=DURATION:PT1H
X-Robots-Tag:noindex
X-PUBLISHED-TTL:PT1H
BEGIN:VTIMEZONE
TZID:UTC
BEGIN:STANDARD
TZOFFSETFROM:+0000
TZOFFSETTO:+0000
TZNAME:UTC
DTSTART:20240101T000000
END:STANDARD
END:VTIMEZONE
BEGIN:VEVENT
DTSTART;TZID=UTC:20250103T133000
DTEND;TZID=UTC:20250103T170000
DTSTAMP:20260421T084606
CREATED:20240813T121758Z
LAST-MODIFIED:20240813T121758Z
UID:1692-1735911000-1735923600@kf-unterboihingen.de
SUMMARY:Spaziergang zum Jahresbeginn
DESCRIPTION:Am Freitag\, 03. Januar 2025 laden wir recht herzlich zu einem Spaziergang zum Jahresbeginn ein.\nTreffpunkt ist um 13:30 Uhr vor dem Gemeindezentrum St. Georg. Wir laufen eine kleine Runde und kehren danach zum Kaffee ein.
URL:https://kf-unterboihingen.de/event/spaziergang-zum-jahresbeginn/
LOCATION:Gemeindezentrum St. Georg\, Bürgerstr. 4\, Wendlingen am Neckar\, 73240\, Deutschland
END:VEVENT
END:VCALENDAR