BEGIN:VCALENDAR
VERSION:2.0
PRODID:-//Kolpingsfamilie Unterboihingen - ECPv6.15.20//NONSGML v1.0//EN
CALSCALE:GREGORIAN
METHOD:PUBLISH
X-ORIGINAL-URL:https://kf-unterboihingen.de
X-WR-CALDESC:Veranstaltungen für Kolpingsfamilie Unterboihingen
REFRESH-INTERVAL;VALUE=DURATION:PT1H
X-Robots-Tag:noindex
X-PUBLISHED-TTL:PT1H
BEGIN:VTIMEZONE
TZID:UTC
BEGIN:STANDARD
TZOFFSETFROM:+0000
TZOFFSETTO:+0000
TZNAME:UTC
DTSTART:20230101T000000
END:STANDARD
END:VTIMEZONE
BEGIN:VEVENT
DTSTART;TZID=UTC:20241201T093000
DTEND;TZID=UTC:20241201T170000
DTSTAMP:20260421T101644
CREATED:20240813T120441Z
LAST-MODIFIED:20240813T120441Z
UID:1683-1733045400-1733072400@kf-unterboihingen.de
SUMMARY:Kolpinggedenktag
DESCRIPTION:Zu unserem Kolpinggedenktag laden wir alle Mitglieder\, Freunde und Interessierte der Kolpingsfamilie recht herzlich ein.\nBeginnen werden wir um 09:30 Uhr mit dem Gottesdienst in St. Kolumban.\nNachmittags ab 14:00 Uhr treffen wir uns dann in Kolpingsstube zum gemütlichen Beisammensein mit Kaffee und Kuchen.
URL:https://kf-unterboihingen.de/event/kolpinggedenktag/
LOCATION:Kolpingsstube\, Bismarckstr. 45\, Wendlingen am Neckar\, 73240\, Deutschland
END:VEVENT
BEGIN:VEVENT
DTSTART;VALUE=DATE:20241206
DTEND;VALUE=DATE:20241207
DTSTAMP:20260421T101644
CREATED:20240813T120819Z
LAST-MODIFIED:20240813T120941Z
UID:1686-1733443200-1733529599@kf-unterboihingen.de
SUMMARY:Nikolausaktion
DESCRIPTION:Die Kolpingsfamilie Unterboihingen führt in diesem Jahr\, am 06.12. wieder ihre Nikolausaktion durch.\nSeit vielen Jahren pflegen die Mitglieder unserer Kolpingsfamilie den Brauch mit dem Besuch des Nikolaus kleine und große Kinder\, Eltern und Großeltern zu erfreuen. Mit dem Erlös dieser Aktion werden regelmäßig Entwicklungsprojekte in der Dritten Welt unterstützt.\nDer Nikolaus und sein Knecht Ruprecht kommen ab ca. 17:00 Uhr bis ca. 19:00 Uhr zu euch. Die genaue Uhrzeit wird euch noch per Mail mitgeteilt.\nFamilien\, die den Besuch von St. Nikolaus und Knecht Ruprecht wünschen\, sollen sich bitte bis 02.12. per E-Mail über post@kf-unterboihingen.de anmelden.
URL:https://kf-unterboihingen.de/event/nikolausaktion/
LOCATION:bei euch
END:VEVENT
BEGIN:VEVENT
DTSTART;TZID=UTC:20241220T193000
DTEND;TZID=UTC:20241220T230000
DTSTAMP:20260421T101644
CREATED:20240813T121131Z
LAST-MODIFIED:20240813T121131Z
UID:1690-1734723000-1734735600@kf-unterboihingen.de
SUMMARY:Adventsfeier
DESCRIPTION:Am Freitag den 20. Dezember 2024 um 19:30 Uhr findet in der Kolpingsstube die Adventsfeier der Kolpingsfamilie statt.\nHierzu laden wir herzlich alle Mitglieder und Freunde ein.\nWir wollen uns in besinnlicher und gemütlicher Runde auf Weihnachten einstimmen. Zu Weihnachtsgeschichten\, Advents- und Weihnachtsliedern gibt es Glühwein\, Tee und Gutsle (bitte diese nach Möglichkeit selbst mitbringen).
URL:https://kf-unterboihingen.de/event/adventsfeier/
LOCATION:Kolpingsstube\, Bismarckstr. 45\, Wendlingen am Neckar\, 73240\, Deutschland
END:VEVENT
END:VCALENDAR