BEGIN:VCALENDAR
VERSION:2.0
PRODID:-//Kolpingsfamilie Unterboihingen - ECPv6.15.20//NONSGML v1.0//EN
CALSCALE:GREGORIAN
METHOD:PUBLISH
X-WR-CALNAME:Kolpingsfamilie Unterboihingen
X-ORIGINAL-URL:https://kf-unterboihingen.de
X-WR-CALDESC:Veranstaltungen für Kolpingsfamilie Unterboihingen
REFRESH-INTERVAL;VALUE=DURATION:PT1H
X-Robots-Tag:noindex
X-PUBLISHED-TTL:PT1H
BEGIN:VTIMEZONE
TZID:UTC
BEGIN:STANDARD
TZOFFSETFROM:+0000
TZOFFSETTO:+0000
TZNAME:UTC
DTSTART:20250101T000000
END:STANDARD
END:VTIMEZONE
BEGIN:VEVENT
DTSTART;TZID=UTC:20260603T180000
DTEND;TZID=UTC:20260603T203000
DTSTAMP:20260422T135305
CREATED:20260215T155718Z
LAST-MODIFIED:20260215T155718Z
UID:1814-1780509600-1780518600@kf-unterboihingen.de
SUMMARY:Blumenteppich legen für Fronleichnam
DESCRIPTION:Blumenteppich vor dem Gemeindezentrum St. Georg legen
URL:https://kf-unterboihingen.de/event/blumenteppich-legen-fuer-fronleichnam/
LOCATION:Gemeindezentrum St. Georg\, Bürgerstr. 4\, Wendlingen am Neckar\, 73240\, Deutschland
END:VEVENT
END:VCALENDAR