BEGIN:VCALENDAR
VERSION:2.0
PRODID:-//Kolpingsfamilie Unterboihingen - ECPv6.15.20//NONSGML v1.0//EN
CALSCALE:GREGORIAN
METHOD:PUBLISH
X-WR-CALNAME:Kolpingsfamilie Unterboihingen
X-ORIGINAL-URL:https://kf-unterboihingen.de
X-WR-CALDESC:Veranstaltungen für Kolpingsfamilie Unterboihingen
REFRESH-INTERVAL;VALUE=DURATION:PT1H
X-Robots-Tag:noindex
X-PUBLISHED-TTL:PT1H
BEGIN:VTIMEZONE
TZID:UTC
BEGIN:STANDARD
TZOFFSETFROM:+0000
TZOFFSETTO:+0000
TZNAME:UTC
DTSTART:20230101T000000
END:STANDARD
END:VTIMEZONE
BEGIN:VEVENT
DTSTART;TZID=UTC:20241201T093000
DTEND;TZID=UTC:20241201T170000
DTSTAMP:20260421T112927
CREATED:20240813T120441Z
LAST-MODIFIED:20240813T120441Z
UID:1683-1733045400-1733072400@kf-unterboihingen.de
SUMMARY:Kolpinggedenktag
DESCRIPTION:Zu unserem Kolpinggedenktag laden wir alle Mitglieder\, Freunde und Interessierte der Kolpingsfamilie recht herzlich ein.\nBeginnen werden wir um 09:30 Uhr mit dem Gottesdienst in St. Kolumban.\nNachmittags ab 14:00 Uhr treffen wir uns dann in Kolpingsstube zum gemütlichen Beisammensein mit Kaffee und Kuchen.
URL:https://kf-unterboihingen.de/event/kolpinggedenktag/
LOCATION:Kolpingsstube\, Bismarckstr. 45\, Wendlingen am Neckar\, 73240\, Deutschland
END:VEVENT
END:VCALENDAR